BEGIN:VCALENDAR
VERSION:2.0
PRODID:-//Bellatrix - ECPv6.15.20//NONSGML v1.0//EN
CALSCALE:GREGORIAN
METHOD:PUBLISH
X-WR-CALNAME:Bellatrix
X-ORIGINAL-URL:https://bellatrixllc.com
X-WR-CALDESC:Events for Bellatrix
REFRESH-INTERVAL;VALUE=DURATION:PT1H
X-Robots-Tag:noindex
X-PUBLISHED-TTL:PT1H
BEGIN:VTIMEZONE
TZID:UTC
BEGIN:STANDARD
TZOFFSETFROM:+0000
TZOFFSETTO:+0000
TZNAME:UTC
DTSTART:20230101T000000
END:STANDARD
END:VTIMEZONE
BEGIN:VEVENT
DTSTART;TZID=UTC:20241215T100000
DTEND;TZID=UTC:20241215T140000
DTSTAMP:20260424T131616
CREATED:20240219T214857Z
LAST-MODIFIED:20240219T214857Z
UID:2672-1734256800-1734271200@bellatrixllc.com
SUMMARY:Christmas Market
DESCRIPTION:CT Valley Brewing Co Christmas Market.  Shop local small businesses and Artisans while you grab some food or a beverage this coming holiday season.
URL:https://bellatrixllc.com/event/christmas-market/
LOCATION:CT Valley Brewing Company\, 765 Sullivan Ave\, South Windsor\, Connecticut
ATTACH;FMTTYPE=image/jpeg:https://bellatrixllc.com/wp-content/uploads/2024/02/xmas.jpg
END:VEVENT
BEGIN:VEVENT
DTSTART;TZID=UTC:20241124T090000
DTEND;TZID=UTC:20241124T160000
DTSTAMP:20260424T131616
CREATED:20240220T034207Z
LAST-MODIFIED:20240220T034207Z
UID:2742-1732438800-1732464000@bellatrixllc.com
SUMMARY:Frosty's Christmas Festival
DESCRIPTION:Join us at the Aquaturf for Frosty’s Christmas Festival.
URL:https://bellatrixllc.com/event/frostys-christmas-festival/
END:VEVENT
BEGIN:VEVENT
DTSTART;TZID=UTC:20241019T100000
DTEND;TZID=UTC:20241019T140000
DTSTAMP:20260424T131616
CREATED:20240219T213747Z
LAST-MODIFIED:20240219T213747Z
UID:2669-1729332000-1729346400@bellatrixllc.com
SUMMARY:Howl'ween Market
DESCRIPTION:Join us Saturday\, October 19th for our howl’ween Market and our dog event with a pup parade!
URL:https://bellatrixllc.com/event/howlween-market/
LOCATION:CT Valley Brewing Company\, 765 Sullivan Ave\, South Windsor\, Connecticut
ATTACH;FMTTYPE=image/jpeg:https://bellatrixllc.com/wp-content/uploads/2024/02/howl.jpg
END:VEVENT
BEGIN:VEVENT
DTSTART;TZID=UTC:20240915T100000
DTEND;TZID=UTC:20240915T160000
DTSTAMP:20260424T131616
CREATED:20230226T162040Z
LAST-MODIFIED:20240220T025608Z
UID:2061-1726394400-1726416000@bellatrixllc.com
SUMMARY:2024 Simsbury Arts & Crafts Festival
DESCRIPTION:Join us at the 2024 Simsbury Arts & Crafts Festival hosted by the Simsbury Junior Womans club. Stop by our yellow tent and say hello.
URL:https://bellatrixllc.com/event/2023-simsbury-arts-crafts-festival-2/
LOCATION:Simsbury  Meadows Performing Arts Center\, 22 Iron Horse Boulevard\, Simsbury\, CT
ORGANIZER;CN="Simsbury Jr. Womans Club":MAILTO:simsburyjuniors@gmail.com
END:VEVENT
BEGIN:VEVENT
DTSTART;TZID=UTC:20240914T100000
DTEND;TZID=UTC:20240914T160000
DTSTAMP:20260424T131616
CREATED:20230226T161902Z
LAST-MODIFIED:20240220T025351Z
UID:2058-1726308000-1726329600@bellatrixllc.com
SUMMARY:2024 Simsbury Arts & Crafts Festival!
DESCRIPTION:Join us at the 2024 Simsbury Arts & Crafts Festival hosted by the Simsbury Junior Womans club.
URL:https://bellatrixllc.com/event/2023-simsbury-arts-crafts-festival/
LOCATION:Simsbury  Meadows Performing Arts Center\, 22 Iron Horse Boulevard\, Simsbury\, CT
ORGANIZER;CN="Simsbury Jr. Womans Club":MAILTO:simsburyjuniors@gmail.com
END:VEVENT
BEGIN:VEVENT
DTSTART;TZID=UTC:20240913T160000
DTEND;TZID=UTC:20240913T190000
DTSTAMP:20260424T131616
CREATED:20240220T030311Z
LAST-MODIFIED:20240220T030311Z
UID:2732-1726243200-1726254000@bellatrixllc.com
SUMMARY:Bozrah Farmers Market Chocolate Night
DESCRIPTION:Join us at chocolate night.  Stop by our yellow tent and say hello.  We will have Carob doggie icecream….its the chocolate for dogs.
URL:https://bellatrixllc.com/event/bozrah-farmers-market-chocolate-night/
END:VEVENT
BEGIN:VEVENT
DTSTART;TZID=UTC:20240825T100000
DTEND;TZID=UTC:20240825T160000
DTSTAMP:20260424T131616
CREATED:20240220T032112Z
LAST-MODIFIED:20240220T032112Z
UID:2736-1724580000-1724601600@bellatrixllc.com
SUMMARY:Drean Ride
DESCRIPTION:Join us at the pet adoption center during this years Dream Ride.
URL:https://bellatrixllc.com/event/drean-ride/
END:VEVENT
BEGIN:VEVENT
DTSTART;TZID=UTC:20240824T100000
DTEND;TZID=UTC:20240824T160000
DTSTAMP:20260424T131616
CREATED:20240220T031559Z
LAST-MODIFIED:20240220T031559Z
UID:2734-1724493600-1724515200@bellatrixllc.com
SUMMARY:Dream Ride
DESCRIPTION:Join us at the pet adoption center during this years Dream Ride.
URL:https://bellatrixllc.com/event/dream-ride/
END:VEVENT
BEGIN:VEVENT
DTSTART;TZID=UTC:20240812T110000
DTEND;TZID=UTC:20240812T150000
DTSTAMP:20260424T131616
CREATED:20240220T033441Z
LAST-MODIFIED:20240220T033441Z
UID:2740-1723460400-1723474800@bellatrixllc.com
SUMMARY:Compassion Fest
DESCRIPTION:The mission of the 8th Annual Compassionfest is to unite like-minded people who believe in the values of being just\, kindness\, equality and compassion. There will be delicious vegan food and animal-friendly product providers\, non-profits\, local artisans\, vegan tattooing\, music\, yoga\, & healing workshops for all ages.  Stop by our yellow tent and say hello.  We will have dog accessories and treats in compostable packaging.
URL:https://bellatrixllc.com/event/compassion-fest/
END:VEVENT
BEGIN:VEVENT
DTSTART;TZID=UTC:20240804T110000
DTEND;TZID=UTC:20240804T190000
DTSTAMP:20260424T131616
CREATED:20230304T033722Z
LAST-MODIFIED:20240220T025012Z
UID:2200-1722769200-1722798000@bellatrixllc.com
SUMMARY:Glastonbury Food Truck Festival
DESCRIPTION:Join us\, several other vendors\, and of course food trucks. Stop by our yellow tent and say hello. We will have treats and accessories.
URL:https://bellatrixllc.com/event/glastonbury-food-truck-festival-2/
LOCATION:Glastonbury Elks Lodge\, Glastonbury\, CT
END:VEVENT
BEGIN:VEVENT
DTSTART;TZID=UTC:20240803T110000
DTEND;TZID=UTC:20240803T200000
DTSTAMP:20260424T131616
CREATED:20230304T033532Z
LAST-MODIFIED:20240220T024749Z
UID:2197-1722682800-1722715200@bellatrixllc.com
SUMMARY:Glastonbury Food Truck Festival
DESCRIPTION:Join us\, several other vendors\, and of course food trucks. Stop by our yellow tent and say hello. We will have treats and accessories.
URL:https://bellatrixllc.com/event/glastonbury-food-truck-festival/
LOCATION:Glastonbury Elks Lodge\, Glastonbury\, CT
END:VEVENT
BEGIN:VEVENT
DTSTART;TZID=UTC:20240802T160000
DTEND;TZID=UTC:20240802T190000
DTSTAMP:20260424T131616
CREATED:20240220T022812Z
LAST-MODIFIED:20240220T022812Z
UID:2724-1722614400-1722625200@bellatrixllc.com
SUMMARY:Bozrah Farmers Market Dog Days
DESCRIPTION:Bozrah Farmers Market on 2 Aug is for the dogs.  Join us there we will have accessories and treats for your dog…and a few things for the humans too.
URL:https://bellatrixllc.com/event/bozrah-farmers-market-dog-days/
LOCATION:Bozrah Farmers Market\, 45 Bozrah Rd.\, Bozrah\, CT
END:VEVENT
BEGIN:VEVENT
DTSTART;TZID=UTC:20240802T080000
DTEND;TZID=UTC:20240802T170000
DTSTAMP:20260424T131616
CREATED:20240220T032538Z
LAST-MODIFIED:20240220T032538Z
UID:2738-1722585600-1722618000@bellatrixllc.com
SUMMARY:Bozrah Farmers Market
DESCRIPTION:Taco night at the farmers market.  Stop by our yellow booth and say hello we will have treats and accessories for the dogs and a few things for the humans too
URL:https://bellatrixllc.com/event/bozrah-farmers-market-5/
END:VEVENT
BEGIN:VEVENT
DTSTART;TZID=UTC:20240714T110000
DTEND;TZID=UTC:20240714T190000
DTSTAMP:20260424T131616
CREATED:20240220T022239Z
LAST-MODIFIED:20240220T022239Z
UID:2722-1720954800-1720983600@bellatrixllc.com
SUMMARY:Pickle Fest
DESCRIPTION:If you like pickles this is the event for you.  Stop by our yellow tent and say hello
URL:https://bellatrixllc.com/event/pickle-fest-2/
LOCATION:Berlin Fair\, 286 Beckley Rd\, Berlin\, CT\, 06037
ATTACH;FMTTYPE=image/jpeg:https://bellatrixllc.com/wp-content/uploads/2024/02/pickle-festival.jpg
END:VEVENT
BEGIN:VEVENT
DTSTART;TZID=UTC:20240713T110000
DTEND;TZID=UTC:20240713T190000
DTSTAMP:20260424T131616
CREATED:20240220T021851Z
LAST-MODIFIED:20240220T021851Z
UID:2716-1720868400-1720897200@bellatrixllc.com
SUMMARY:Pickle Fest
DESCRIPTION:If you love pickles this is the place to be.  Stop by our yellow tent and say hello.
URL:https://bellatrixllc.com/event/pickle-fest/
LOCATION:Berlin Fair\, 286 Beckley Rd\, Berlin\, CT\, 06037
ATTACH;FMTTYPE=image/jpeg:https://bellatrixllc.com/wp-content/uploads/2024/02/pickle-festival.jpg
END:VEVENT
BEGIN:VEVENT
DTSTART;TZID=UTC:20240712T160000
DTEND;TZID=UTC:20240712T190000
DTSTAMP:20260424T131616
CREATED:20240220T020006Z
LAST-MODIFIED:20240220T020006Z
UID:2712-1720800000-1720810800@bellatrixllc.com
SUMMARY:Bozrah Farmers Market
DESCRIPTION:Opening Day for the Bozrah Farmers Market.  Stop by with your pup and say hello to us.
URL:https://bellatrixllc.com/event/bozrah-farmers-market-4/
END:VEVENT
BEGIN:VEVENT
DTSTART;TZID=UTC:20240706T090000
DTEND;TZID=UTC:20240706T120000
DTSTAMP:20260424T131616
CREATED:20240220T015503Z
LAST-MODIFIED:20240220T015503Z
UID:2710-1720256400-1720267200@bellatrixllc.com
SUMMARY:Hebron Dog Days Farmers Market
DESCRIPTION:Hebron Farmers Market is celebrating Dog Days  on July 6th.
URL:https://bellatrixllc.com/event/hebron-dog-days-farmers-market/
END:VEVENT
BEGIN:VEVENT
DTSTART;TZID=UTC:20240615T120000
DTEND;TZID=UTC:20240615T170000
DTSTAMP:20260424T131616
CREATED:20240220T013258Z
LAST-MODIFIED:20240220T013258Z
UID:2703-1718452800-1718470800@bellatrixllc.com
SUMMARY:Dad Fest
DESCRIPTION:Join us in celebrating all things Dad. What are Dad’s favorite things? How about food trucks\, classic cars\, carnival games\, eating contests\, beer\, Dad jokes? We’ll have all that and more at DadFest! Join us on June 15th at the beautiful Spencer Fairgrounds\, 12 to 5. Parking and children under 12 are free
URL:https://bellatrixllc.com/event/dad-fest/
LOCATION:Spencer Fairgrounds\, Spencer\, MA
ATTACH;FMTTYPE=image/jpeg:https://bellatrixllc.com/wp-content/uploads/2024/02/dad-fest.jpg
END:VEVENT
BEGIN:VEVENT
DTSTART;TZID=UTC:20240615T103000
DTEND;TZID=UTC:20240615T143000
DTSTAMP:20260424T131616
CREATED:20240220T014725Z
LAST-MODIFIED:20240220T014725Z
UID:2706-1718447400-1718461800@bellatrixllc.com
SUMMARY:Hebron Day Summer Kickoff
DESCRIPTION:Join us at Hebron Day Summer Kickoff which is an event for the whole family that includes entertainment\, vendors\, food trucks\, live music\, local businesses\, Ted’s IGA car show\, bounce houses\, face painting\, and so much more!
URL:https://bellatrixllc.com/event/hebron-day-summer-kickoff-2/
LOCATION:Brunt Hill Park\, 148 East St.\, Hebron\, CT\, 06248
ATTACH;FMTTYPE=image/jpeg:https://bellatrixllc.com/wp-content/uploads/2024/02/hebron-day.jpg
END:VEVENT
BEGIN:VEVENT
DTSTART;TZID=UTC:20240609T110000
DTEND;TZID=UTC:20240609T170000
DTSTAMP:20260424T131616
CREATED:20240220T001652Z
LAST-MODIFIED:20240220T001652Z
UID:2700-1717930800-1717952400@bellatrixllc.com
SUMMARY:5th Annual Pioneer Valley Food and Wine Festival
DESCRIPTION:Wine\, Beer\, Cider & Mead Tasting! Food Trucks \, Live Music\, Craft show and more!!
URL:https://bellatrixllc.com/event/5th-annual-pioneer-valley-food-and-wine-festival-2/
LOCATION:Brimfield Winery\, 35 Main Street\, Brimfield\, MA
ATTACH;FMTTYPE=image/jpeg:https://bellatrixllc.com/wp-content/uploads/2024/02/birimfield.jpg
END:VEVENT
BEGIN:VEVENT
DTSTART;TZID=UTC:20240608T110000
DTEND;TZID=UTC:20240608T170000
DTSTAMP:20260424T131616
CREATED:20240220T001249Z
LAST-MODIFIED:20240220T001249Z
UID:2697-1717844400-1717866000@bellatrixllc.com
SUMMARY:5th Annual Pioneer Valley Food and Wine Festival
DESCRIPTION:Wine\, Beer\, Cider & Mead Tasting! Food Trucks \, Live Music\, Craft show and more!!
URL:https://bellatrixllc.com/event/5th-annual-pioneer-valley-food-and-wine-festival/
ATTACH;FMTTYPE=image/jpeg:https://bellatrixllc.com/wp-content/uploads/2024/02/birimfield.jpg
END:VEVENT
BEGIN:VEVENT
DTSTART;TZID=UTC:20240608T090000
DTEND;TZID=UTC:20240608T170000
DTSTAMP:20260424T131616
CREATED:20240220T000452Z
LAST-MODIFIED:20240220T000452Z
UID:2693-1717837200-1717866000@bellatrixllc.com
SUMMARY:42nd Annual South Windsor Strawberry Festival
DESCRIPTION:Join us for Strawberries and shopping at the largest craft fair in South Windsor.  Dogs on leashes are welcome to attend this event with their families.
URL:https://bellatrixllc.com/event/42nd-annual-south-windsor-strawberry-festival/
LOCATION:Nevers Park\, Chief Ryan Way\, South Windsor\, CT\, 06074
ATTACH;FMTTYPE=image/jpeg:https://bellatrixllc.com/wp-content/uploads/2024/02/strawberry.jpg
END:VEVENT
BEGIN:VEVENT
DTSTART;TZID=UTC:20240601T130000
DTEND;TZID=UTC:20240601T190000
DTSTAMP:20260424T131616
CREATED:20240219T235053Z
LAST-MODIFIED:20240219T235053Z
UID:2690-1717246800-1717268400@bellatrixllc.com
SUMMARY:6th Annual Middletown PrideFEST
DESCRIPTION:Middletown PrideFEST is an all-afternoon street festival that includes family friendly fun and activities for all ages from 12pm – 10 pm. PrideFEST will once again consist of the Middletown Pride March down Main Street\, Pride Rally on the South Green\, two Pride Showcase Concerts\, and a Tea Dance. Vendors and food trucks will be located on Main Street\, and a 21+ area will offer cocktails and adult beverages with a perfect view of the South Green Stage. \n 
URL:https://bellatrixllc.com/event/6th-annual-middletown-pridefest/
LOCATION:Downtown Middletown\, 393 Main Street\, Middletown\, CT\, 06457
END:VEVENT
BEGIN:VEVENT
DTSTART;TZID=UTC:20240526T100000
DTEND;TZID=UTC:20240526T140000
DTSTAMP:20260424T131616
CREATED:20240219T213333Z
LAST-MODIFIED:20240219T213333Z
UID:2666-1716717600-1716732000@bellatrixllc.com
SUMMARY:For the Love of Dogs
DESCRIPTION:Stop by for the love of dogs event where you can find some great items for your dog or the dog lover in your life.
URL:https://bellatrixllc.com/event/for-the-love-of-dogs-2/
LOCATION:CT Valley Brewing Company\, 765 Sullivan Ave\, South Windsor\, Connecticut
ATTACH;FMTTYPE=image/jpeg:https://bellatrixllc.com/wp-content/uploads/2024/02/love-of-dogs.jpg
END:VEVENT
BEGIN:VEVENT
DTSTART;TZID=UTC:20240525T090000
DTEND;TZID=UTC:20240525T160000
DTSTAMP:20260424T131616
CREATED:20230226T155851Z
LAST-MODIFIED:20240219T233257Z
UID:2042-1716627600-1716652800@bellatrixllc.com
SUMMARY:Heirloom Market Spring Festival
DESCRIPTION:Heirloom Market at Comstock Ferre is hosting their annual spring festival on Saturday May 25. Come enjoy a fun filled day in historic old Wethersfield. There will be dozens of local vendors and artisans selling their wares. Amazing food and drink. A beer garden tent. Live music! Alpacas\, Henna art\, face painting and so much more!!
URL:https://bellatrixllc.com/event/heirloom-market-spring-festival/
LOCATION:Heirloom Market\, 263 Main St\, Wethersfield\, CT\, 06109
END:VEVENT
BEGIN:VEVENT
DTSTART;TZID=UTC:20240519T110000
DTEND;TZID=UTC:20240519T160000
DTSTAMP:20260424T131616
CREATED:20240219T232006Z
LAST-MODIFIED:20240219T232006Z
UID:2684-1716116400-1716134400@bellatrixllc.com
SUMMARY:Millbury Redevelopment food truck festival & craft fair
DESCRIPTION:Join us for food trucks and Crafts in Millbury MA on 18 May 2024
URL:https://bellatrixllc.com/event/millbury-redevelopment-food-truck-festival-craft-fair/
ATTACH;FMTTYPE=image/jpeg:https://bellatrixllc.com/wp-content/uploads/2024/02/millbury.jpg
END:VEVENT
BEGIN:VEVENT
DTSTART;TZID=UTC:20240519T100000
DTEND;TZID=UTC:20240519T160000
DTSTAMP:20260424T131616
CREATED:20240219T222456Z
LAST-MODIFIED:20240219T222456Z
UID:2680-1716112800-1716134400@bellatrixllc.com
SUMMARY:Dog Fest
DESCRIPTION:Join us in Westport for the 7th annual Dog Fest. Come on out for a great day in the park with family and friends.  Fun Competitions\, Obstacle Course\, Police K9 Presentations\, Demonstrations\, Adoptables\, Vendors\, Food Trucks\, Face Painting\, Caricature artist\, Photo board\, Dog Licensing and more… Fun for the whole family\, including people. Bring your dog.
URL:https://bellatrixllc.com/event/dog-fest/
LOCATION:Westport-Weston Chamber of Commerce\, 41 Riverside Ave\, WestPort\, CT\, 06880
END:VEVENT
BEGIN:VEVENT
DTSTART;TZID=UTC:20240511T110000
DTEND;TZID=UTC:20240511T140000
DTSTAMP:20260424T131616
CREATED:20240219T221307Z
LAST-MODIFIED:20240219T221307Z
UID:2676-1715425200-1715436000@bellatrixllc.com
SUMMARY:Bozrah Mothers Day Market
DESCRIPTION:Looking for a gift for Mom?  Stop by the Bozrah Mother’s Day Market where you are sure to find something for the mom in your life.
URL:https://bellatrixllc.com/event/bozrah-mothers-day-market/
LOCATION:Bozrah Farmers Market\, 45 Bozrah Rd.\, Bozrah\, CT
ATTACH;FMTTYPE=image/jpeg:https://bellatrixllc.com/wp-content/uploads/2024/02/bozarah-mothers-day.jpg
END:VEVENT
BEGIN:VEVENT
DTSTART;TZID=UTC:20240511T100000
DTEND;TZID=UTC:20240511T140000
DTSTAMP:20260424T131616
CREATED:20240219T212806Z
LAST-MODIFIED:20240219T212806Z
UID:2663-1715421600-1715436000@bellatrixllc.com
SUMMARY:Mother's Day Market
DESCRIPTION:
URL:https://bellatrixllc.com/event/mothers-day-market/
LOCATION:CT Valley Brewing Company\, 765 Sullivan Ave\, South Windsor\, Connecticut
ATTACH;FMTTYPE=image/jpeg:https://bellatrixllc.com/wp-content/uploads/2024/02/mothers-day.jpg
END:VEVENT
BEGIN:VEVENT
DTSTART;TZID=UTC:20240421T100000
DTEND;TZID=UTC:20240421T180000
DTSTAMP:20260424T131616
CREATED:20230105T043740Z
LAST-MODIFIED:20240219T212034Z
UID:1937-1713693600-1713722400@bellatrixllc.com
SUMMARY:Meriden Food Truck Festival
DESCRIPTION:Meriden Food Truck Festival\nSaturday\, April 22nd (10a – 7p) – Sunday\, April 23rd (10a – 6p)\nMeriden Mall\, 470 Lewis St\, Meriden\, CT\nPROCEEDS BENEFIT WALLINGFORD DOG PARK\nCrafters\, Vendors\, Food Trucks\, Entertainment\, Kids Activities
URL:https://bellatrixllc.com/event/meriden-food-truck-festival-2/
LOCATION:meriden mall\, 470 Lewis St\, Meriden\, CT
ORGANIZER;CN="Petrillos Fairs and Festivals":MAILTO:petrillosevents@gmail.com
END:VEVENT
END:VCALENDAR