BEGIN:VCALENDAR
VERSION:2.0
PRODID:-//Bellatrix - ECPv6.15.20//NONSGML v1.0//EN
CALSCALE:GREGORIAN
METHOD:PUBLISH
X-WR-CALNAME:Bellatrix
X-ORIGINAL-URL:https://bellatrixllc.com
X-WR-CALDESC:Events for Bellatrix
REFRESH-INTERVAL;VALUE=DURATION:PT1H
X-Robots-Tag:noindex
X-PUBLISHED-TTL:PT1H
BEGIN:VTIMEZONE
TZID:UTC
BEGIN:STANDARD
TZOFFSETFROM:+0000
TZOFFSETTO:+0000
TZNAME:UTC
DTSTART:20220101T000000
END:STANDARD
END:VTIMEZONE
BEGIN:VEVENT
DTSTART;TZID=UTC:20231217T100000
DTEND;TZID=UTC:20231217T180000
DTSTAMP:20260424T175431
CREATED:20231011T015043Z
LAST-MODIFIED:20231011T020252Z
UID:2530-1702807200-1702836000@bellatrixllc.com
SUMMARY:Santa's Workshop
DESCRIPTION:Wrap up your holiday shopping by supporting local vendors and artist.
URL:https://bellatrixllc.com/event/santas-workshop/
LOCATION:meriden mall\, 470 Lewis St\, Meriden\, CT
END:VEVENT
BEGIN:VEVENT
DTSTART;TZID=UTC:20231216T130000
DTEND;TZID=UTC:20231216T180000
DTSTAMP:20260424T175431
CREATED:20231011T020012Z
LAST-MODIFIED:20231011T022117Z
UID:2536-1702731600-1702749600@bellatrixllc.com
SUMMARY:Pratt Street Winter Village
DESCRIPTION:You can shop from local artisans who will be popping up at the Winter Village\, enjoy live musical performances and demonstrations\, eat and drink at the street’s restaurants and bars\, and visit Pratt Street retail businesses.
URL:https://bellatrixllc.com/event/pratt-street-winter-village-3/
END:VEVENT
BEGIN:VEVENT
DTSTART;TZID=UTC:20231216T100000
DTEND;TZID=UTC:20231216T180000
DTSTAMP:20260424T175431
CREATED:20231011T014914Z
LAST-MODIFIED:20231011T014914Z
UID:2528-1702720800-1702749600@bellatrixllc.com
SUMMARY:Santa's Market & Workshop
DESCRIPTION:Wrap up your holiday shopping by supporting local vendors and artist.
URL:https://bellatrixllc.com/event/santas-market-workshop-2/
LOCATION:meriden mall\, 470 Lewis St\, Meriden\, CT
END:VEVENT
BEGIN:VEVENT
DTSTART;TZID=UTC:20231215T140000
DTEND;TZID=UTC:20231215T190000
DTSTAMP:20260424T175431
CREATED:20231011T015228Z
LAST-MODIFIED:20231011T015828Z
UID:2532-1702648800-1702666800@bellatrixllc.com
SUMMARY:Pratt Street’s Winter Village
DESCRIPTION:You can shop from local artisans who will be popping up at the Winter Village\, enjoy live musical performances and demonstrations\, eat and drink at the street’s restaurants and bars\, and visit Pratt Street retail businesses.
URL:https://bellatrixllc.com/event/santas-workshop-2/
END:VEVENT
BEGIN:VEVENT
DTSTART;TZID=UTC:20231210T110000
DTEND;TZID=UTC:20231210T160000
DTSTAMP:20260424T175431
CREATED:20231011T004108Z
LAST-MODIFIED:20231011T004108Z
UID:2505-1702206000-1702224000@bellatrixllc.com
SUMMARY:Enfield Craft and Hobby Fair
DESCRIPTION:Enfield CT Craft and Hobby fair: Come out and support your local crafters\, bakers\, collectors\, and small business. 11:00 AM till 4:00 PM
URL:https://bellatrixllc.com/event/enfield-craft-and-hobby-fair-11/
END:VEVENT
BEGIN:VEVENT
DTSTART;TZID=UTC:20231203T120000
DTEND;TZID=UTC:20231203T160000
DTSTAMP:20260424T175431
CREATED:20231011T014032Z
LAST-MODIFIED:20231011T014623Z
UID:2523-1701604800-1701619200@bellatrixllc.com
SUMMARY:Woodstock Christmas Market
DESCRIPTION:Bring your whole family to enjoy the beautiful settings of Roseland Park and get a head start on your holiday shopping by supporting local vendors and artist while sipping on warm beverages and enjoying local food trucks. Hope to see you at this festive community event that will surely get you into the holiday spirit!
URL:https://bellatrixllc.com/event/ct-valley-brewing-company-christmas-market/
LOCATION:Roseland Park\, Roseland Park Rd\, Woodstock\, CT
END:VEVENT
BEGIN:VEVENT
DTSTART;TZID=UTC:20231203T110000
DTEND;TZID=UTC:20231203T160000
DTSTAMP:20260424T175431
CREATED:20231011T004012Z
LAST-MODIFIED:20231011T004012Z
UID:2503-1701601200-1701619200@bellatrixllc.com
SUMMARY:Enfield Craft and Hobby Fair
DESCRIPTION:Enfield CT Craft and Hobby fair: Come out and support your local crafters\, bakers\, collectors\, and small business. 11:00 AM till 4:00 PM
URL:https://bellatrixllc.com/event/enfield-craft-and-hobby-fair-10/
END:VEVENT
BEGIN:VEVENT
DTSTART;TZID=UTC:20231126T110000
DTEND;TZID=UTC:20231126T160000
DTSTAMP:20260424T175431
CREATED:20231011T003858Z
LAST-MODIFIED:20231011T003858Z
UID:2501-1700996400-1701014400@bellatrixllc.com
SUMMARY:Enfield Craft and Hobby Fair
DESCRIPTION:Enfield CT Craft and Hobby fair: Come out and support your local crafters\, bakers\, collectors\, and small business. 11:00 AM till 4:00 PM
URL:https://bellatrixllc.com/event/enfield-craft-and-hobby-fair-9/
END:VEVENT
BEGIN:VEVENT
DTSTART;TZID=UTC:20231125T110000
DTEND;TZID=UTC:20231125T180000
DTSTAMP:20260424T175431
CREATED:20231011T013127Z
LAST-MODIFIED:20231011T013127Z
UID:2520-1700910000-1700935200@bellatrixllc.com
SUMMARY:Moxie Market at Parkville Market
DESCRIPTION:Join us as we take over Parkville Market for Small Business Saturday! A large group of Artisans & Makers will display their handcrafts upstairs at Connecticut’s premier food hall destination.
URL:https://bellatrixllc.com/event/moxie-market-at-parkville-market/
LOCATION:Parkvilel Market\, 1400 Park St.\, Hartford\, CT\, 06106-2209\,
END:VEVENT
BEGIN:VEVENT
DTSTART;TZID=UTC:20231125T090000
DTEND;TZID=UTC:20231125T180000
DTSTAMP:20260424T175431
CREATED:20231011T012738Z
LAST-MODIFIED:20231011T012738Z
UID:2518-1700902800-1700935200@bellatrixllc.com
SUMMARY:Santa's Market & Workshop
DESCRIPTION:Get your holiday shopping started at the Meriden Mall during Santa’s Market and Workshop\, Saturday\, Nov 25 (9a-6p)
URL:https://bellatrixllc.com/event/santas-market-workshop/
END:VEVENT
BEGIN:VEVENT
DTSTART;TZID=UTC:20231119T110000
DTEND;TZID=UTC:20231119T160000
DTSTAMP:20260424T175431
CREATED:20231011T003758Z
LAST-MODIFIED:20231011T003758Z
UID:2499-1700391600-1700409600@bellatrixllc.com
SUMMARY:Enfield Craft and Hobby Fair
DESCRIPTION:Enfield CT Craft and Hobby fair: Come out and support your local crafters\, bakers\, collectors\, and small business. 11:00 AM till 4:00 PM
URL:https://bellatrixllc.com/event/enfield-craft-and-hobby-fair-8/
END:VEVENT
BEGIN:VEVENT
DTSTART;TZID=UTC:20231119T080000
DTEND;TZID=UTC:20231119T160000
DTSTAMP:20260424T175431
CREATED:20230105T051021Z
LAST-MODIFIED:20230105T051021Z
UID:1971-1700380800-1700409600@bellatrixllc.com
SUMMARY:Frosty's Christmas Craft Festival
DESCRIPTION:Frosty’s Christmas Festival
URL:https://bellatrixllc.com/event/frostys-christmas-craft-festival/
LOCATION:The Aqua Turf Club\, Southington\, CT
END:VEVENT
BEGIN:VEVENT
DTSTART;TZID=UTC:20231116T183000
DTEND;TZID=UTC:20231116T203000
DTSTAMP:20260424T175431
CREATED:20231011T010846Z
LAST-MODIFIED:20231011T010846Z
UID:2516-1700159400-1700166600@bellatrixllc.com
SUMMARY:Italian Benefit Society Vendor Night
DESCRIPTION:Shop a variety of local small businesses\, crafters\, and artisans during the IBS ladies auxiliary vendor evening from 6:30 till 8:30 PM
URL:https://bellatrixllc.com/event/italian-benefit-society-vendor-night/
END:VEVENT
BEGIN:VEVENT
DTSTART;TZID=UTC:20231112T110000
DTEND;TZID=UTC:20231112T160000
DTSTAMP:20260424T175431
CREATED:20231011T003651Z
LAST-MODIFIED:20231011T003651Z
UID:2497-1699786800-1699804800@bellatrixllc.com
SUMMARY:Enfield Craft and Hobby Fair
DESCRIPTION:Enfield CT Craft and Hobby fair: Come out and support your local crafters\, bakers\, collectors\, and small business. 11:00 AM till 4:00 PM
URL:https://bellatrixllc.com/event/enfield-craft-and-hobby-fair-7/
END:VEVENT
BEGIN:VEVENT
DTSTART;TZID=UTC:20231105T110000
DTEND;TZID=UTC:20231105T160000
DTSTAMP:20260424T175431
CREATED:20231011T003522Z
LAST-MODIFIED:20231011T003522Z
UID:2495-1699182000-1699200000@bellatrixllc.com
SUMMARY:Enfield Craft and Hobby Fair
DESCRIPTION:Enfield CT Craft and Hobby fair: Come out and support your local crafters\, bakers\, collectors\, and small business. 11:00 AM till 4:00 PM
URL:https://bellatrixllc.com/event/enfield-craft-and-hobby-fair-6/
END:VEVENT
BEGIN:VEVENT
DTSTART;TZID=UTC:20231029T130000
DTEND;TZID=UTC:20231029T160000
DTSTAMP:20260424T175431
CREATED:20231011T004952Z
LAST-MODIFIED:20231011T010054Z
UID:2512-1698584400-1698595200@bellatrixllc.com
SUMMARY:Howl-O-Ween at Elicit Brewing Company
DESCRIPTION:Party with your Pooch!\nWe will be on the patio at Elicit Brewing Sunday 10/29 from 1-4\, for a dog costume party/contest in support of Woofgang Dog Rescue.  Woofgang will have adoptable dog Purchase a wristband on site to get food and drink specials\, all proceeds donated to the rescue!  You don’t want to miss this pawty.
URL:https://bellatrixllc.com/event/northwest-farmers-market/
END:VEVENT
BEGIN:VEVENT
DTSTART;TZID=UTC:20231029T110000
DTEND;TZID=UTC:20231029T160000
DTSTAMP:20260424T175431
CREATED:20231011T003412Z
LAST-MODIFIED:20231011T003412Z
UID:2492-1698577200-1698595200@bellatrixllc.com
SUMMARY:Enfield Craft and Hobby Fair
DESCRIPTION:Enfield CT Craft and Hobby fair: Come out and support your local crafters\, bakers\, collectors\, and small business. 11:00 AM till 4:00 PM
URL:https://bellatrixllc.com/event/enfield-craft-and-hobby-fair-5/
END:VEVENT
BEGIN:VEVENT
DTSTART;TZID=UTC:20231022T110000
DTEND;TZID=UTC:20231022T160000
DTSTAMP:20260424T175431
CREATED:20231011T002924Z
LAST-MODIFIED:20231011T002924Z
UID:2490-1697972400-1697990400@bellatrixllc.com
SUMMARY:Enfield Craft and Hobby Fair
DESCRIPTION:Every Sunday 22 Oct through 17 Dec 11:00 AM till 4:00 PM: Come out and support your local crafters\, bakers\, collectors\, and small business.
URL:https://bellatrixllc.com/event/enfield-craft-and-hobby-fair-4/
END:VEVENT
BEGIN:VEVENT
DTSTART;TZID=UTC:20231022T100000
DTEND;TZID=UTC:20231022T160000
DTSTAMP:20260424T175431
CREATED:20231011T004316Z
LAST-MODIFIED:20231011T004646Z
UID:2509-1697968800-1697990400@bellatrixllc.com
SUMMARY:Brimfield Harvest and Craft Fair
DESCRIPTION:Brimfield Harvest festival and craft fair 2023. Saturday September 23rd from 10 to 4pm. Free entry\, food and drinks\, live music\, games\, crafters and vendors and a live animal show.
URL:https://bellatrixllc.com/event/enfield-craft-and-hobby-fair-13/
END:VEVENT
BEGIN:VEVENT
DTSTART;TZID=UTC:20231021T100000
DTEND;TZID=UTC:20231021T160000
DTSTAMP:20260424T175431
CREATED:20231011T000522Z
LAST-MODIFIED:20231011T000522Z
UID:2485-1697882400-1697904000@bellatrixllc.com
SUMMARY:Four Town Fair Annual Regional Farmers & Crafters Market
DESCRIPTION:
URL:https://bellatrixllc.com/event/four-town-fair-annual-regional-farmers-crafters-market/
LOCATION:Four Town Fiargrounds\, 56 Egypt Rd\, Somers\, CT
END:VEVENT
BEGIN:VEVENT
DTSTART;TZID=UTC:20231021T100000
DTEND;TZID=UTC:20231021T140000
DTSTAMP:20260424T175431
CREATED:20231011T000827Z
LAST-MODIFIED:20231011T000827Z
UID:2487-1697882400-1697896800@bellatrixllc.com
SUMMARY:CT Valley Howlween Market and Pup Event
DESCRIPTION:Join us for a day full of festivities for your pooch!\nDress your pup up spooky\, scary\, or cute and enter into our costume contest or shop from our amazing dog-themed artisan vendors.\nSCHEDULE OF EVENTS:\nArtisan Dog-themed Market: 10AM – 2PM\nPup Parade: 1PM\nDog Costume Contest: 1:30PM (with prizes awarded for spookiest and cutest)\nIt’s gonna be a PAW-ty!! See you and your pack here!
URL:https://bellatrixllc.com/event/ct-valley-howlween-market-and-pup-event/
LOCATION:CT Valley Brewing Company\, 765 Sullivan Ave\, South Windsor\, Connecticut
END:VEVENT
BEGIN:VEVENT
DTSTART;TZID=UTC:20231008T100000
DTEND;TZID=UTC:20231008T170000
DTSTAMP:20260424T175431
CREATED:20230614T190343Z
LAST-MODIFIED:20230614T190343Z
UID:2476-1696759200-1696784400@bellatrixllc.com
SUMMARY:Nyack Famous Street Fair
DESCRIPTION:
URL:https://bellatrixllc.com/event/nyack-famous-street-fair/
LOCATION:Nyack NY\, Main St and Broadway\, Nyack NY
END:VEVENT
BEGIN:VEVENT
DTSTART;TZID=UTC:20231008T100000
DTEND;TZID=UTC:20231008T170000
DTSTAMP:20260424T175431
CREATED:20230105T050443Z
LAST-MODIFIED:20230306T014147Z
UID:1969-1696759200-1696784400@bellatrixllc.com
SUMMARY:Howl-O-Ween
DESCRIPTION:Howl-O-Ween\nSaturday\, October 7th (10a – 5p) – Sunday\, October 8th (10a-5p)\nSalmon Brook Park\, Granby CT\nFood Trucks\, Crafters\, Vendors\, Music\, Free dog contests\, Free kids activities\, Free Trick or Treating
URL:https://bellatrixllc.com/event/howl-o-ween-2/
LOCATION:Salmon Brook Park\, Granby\, CT
ORGANIZER;CN="Petrillos Fairs and Festivals":MAILTO:petrillosevents@gmail.com
END:VEVENT
BEGIN:VEVENT
DTSTART;TZID=UTC:20231007T100000
DTEND;TZID=UTC:20231007T170000
DTSTAMP:20260424T175431
CREATED:20230105T050342Z
LAST-MODIFIED:20230306T010941Z
UID:1966-1696672800-1696698000@bellatrixllc.com
SUMMARY:Howl-O-Ween
DESCRIPTION:Howl-O-Ween\nSaturday\, October 7th (10a – 5p) – Sunday\, October 8th (10a-5p)\nSalmon Brook Park\, Granby CT\nFood Trucks\, Crafters\, Vendors\, Music\, Free dog contests\, Free kids activities\, Free Trick or Treating
URL:https://bellatrixllc.com/event/howl-o-ween/
LOCATION:Salmon Brook Park\, Granby\, CT
ORGANIZER;CN="Petrillos Fairs and Festivals":MAILTO:petrillosevents@gmail.com
END:VEVENT
BEGIN:VEVENT
DTSTART;TZID=UTC:20231007T090000
DTEND;TZID=UTC:20231007T120000
DTSTAMP:20260424T175431
CREATED:20230304T041402Z
LAST-MODIFIED:20230304T041402Z
UID:2221-1696669200-1696680000@bellatrixllc.com
SUMMARY:Hebron Artisan and Farmers Market
DESCRIPTION:
URL:https://bellatrixllc.com/event/hebron-artisan-and-farmers-market-5/
LOCATION:Hebron Elementary School\, 92 Church St.\, Hebron\, CT
END:VEVENT
BEGIN:VEVENT
DTSTART;TZID=UTC:20230930T090000
DTEND;TZID=UTC:20230930T150000
DTSTAMP:20260424T175431
CREATED:20230226T162746Z
LAST-MODIFIED:20230306T005939Z
UID:2063-1696064400-1696086000@bellatrixllc.com
SUMMARY:Paws in the Park
DESCRIPTION:
URL:https://bellatrixllc.com/event/paws-in-the-park/
LOCATION:John Mitchell Ground\, South Windsor\, CT
ORGANIZER;CN="Petrillos Fairs and Festivals":MAILTO:petrillosevents@gmail.com
END:VEVENT
BEGIN:VEVENT
DTSTART;TZID=UTC:20230924T100000
DTEND;TZID=UTC:20230924T180000
DTSTAMP:20260424T175431
CREATED:20230105T050112Z
LAST-MODIFIED:20230306T005155Z
UID:1964-1695549600-1695578400@bellatrixllc.com
SUMMARY:Connecticut BarkFEST
DESCRIPTION:Connecticut BarkFEST\nSaturday\, Sept 23rd (10a – 7p) – Sunday\, Sept 24th (10a – 6p)\nMaple Farm Park; 45 Bozrah St.\, Bozrah\, CT\nFood Trucks\, Crafters\, Vendors\, Music\, Free dog contests\, Free kids activities
URL:https://bellatrixllc.com/event/connecticut-barkfest-2/
LOCATION:Maple Farm Park;\, 45 Bozrah St.\, Bozrah\, CT
ORGANIZER;CN="Petrillos Fairs and Festivals":MAILTO:petrillosevents@gmail.com
END:VEVENT
BEGIN:VEVENT
DTSTART;TZID=UTC:20230923T100000
DTEND;TZID=UTC:20230923T190000
DTSTAMP:20260424T175431
CREATED:20230105T045955Z
LAST-MODIFIED:20230306T005004Z
UID:1961-1695463200-1695495600@bellatrixllc.com
SUMMARY:Connecticut BarkFEST
DESCRIPTION:Connecticut BarkFEST\nSaturday\, Sept 23rd (10a – 7p) – Sunday\, Sept 24th (10a – 6p)\nMaple Farm Park; 45 Bozrah St.\, Bozrah\, CT\nFood Trucks\, Crafters\, Vendors\, Music\, Free dog contests\, Free kids activities
URL:https://bellatrixllc.com/event/connecticut-barkfest/
LOCATION:Maple Farm Park;\, 45 Bozrah St.\, Bozrah\, CT
ORGANIZER;CN="Petrillos Fairs and Festivals":MAILTO:petrillosevents@gmail.com
END:VEVENT
BEGIN:VEVENT
DTSTART;TZID=UTC:20230915T160000
DTEND;TZID=UTC:20230915T190000
DTSTAMP:20260424T175431
CREATED:20230226T161116Z
LAST-MODIFIED:20230226T161116Z
UID:2056-1694793600-1694804400@bellatrixllc.com
SUMMARY:Bozrah Farmers Market
DESCRIPTION:
URL:https://bellatrixllc.com/event/bozrah-farmers-market-3/
LOCATION:Bozrah Farmers Market\, 45 Bozrah Rd.\, Bozrah\, CT
END:VEVENT
BEGIN:VEVENT
DTSTART;TZID=UTC:20230910T093000
DTEND;TZID=UTC:20230910T163000
DTSTAMP:20260424T175431
CREATED:20230304T035332Z
LAST-MODIFIED:20230304T035332Z
UID:2204-1694338200-1694363400@bellatrixllc.com
SUMMARY:Stafford Farm Day
DESCRIPTION:
URL:https://bellatrixllc.com/event/stafford-farm-day/
LOCATION:Heritage Park and Witt Farm\, Stafford St\, Stafford Springs\, CT\, 06076
ORGANIZER;CN="Stafford Agricultural Commission":MAILTO:staffordagct@gmail.com
END:VEVENT
END:VCALENDAR