BEGIN:VCALENDAR
VERSION:2.0
PRODID:-//Bellatrix - ECPv6.15.20//NONSGML v1.0//EN
CALSCALE:GREGORIAN
METHOD:PUBLISH
X-ORIGINAL-URL:https://bellatrixllc.com
X-WR-CALDESC:Events for Bellatrix
REFRESH-INTERVAL;VALUE=DURATION:PT1H
X-Robots-Tag:noindex
X-PUBLISHED-TTL:PT1H
BEGIN:VTIMEZONE
TZID:UTC
BEGIN:STANDARD
TZOFFSETFROM:+0000
TZOFFSETTO:+0000
TZNAME:UTC
DTSTART:20220101T000000
END:STANDARD
END:VTIMEZONE
BEGIN:VTIMEZONE
TZID:America/New_York
BEGIN:DAYLIGHT
TZOFFSETFROM:-0500
TZOFFSETTO:-0400
TZNAME:EDT
DTSTART:20220313T070000
END:DAYLIGHT
BEGIN:STANDARD
TZOFFSETFROM:-0400
TZOFFSETTO:-0500
TZNAME:EST
DTSTART:20221106T060000
END:STANDARD
BEGIN:DAYLIGHT
TZOFFSETFROM:-0500
TZOFFSETTO:-0400
TZNAME:EDT
DTSTART:20230312T070000
END:DAYLIGHT
BEGIN:STANDARD
TZOFFSETFROM:-0400
TZOFFSETTO:-0500
TZNAME:EST
DTSTART:20231105T060000
END:STANDARD
BEGIN:DAYLIGHT
TZOFFSETFROM:-0500
TZOFFSETTO:-0400
TZNAME:EDT
DTSTART:20240310T070000
END:DAYLIGHT
BEGIN:STANDARD
TZOFFSETFROM:-0400
TZOFFSETTO:-0500
TZNAME:EST
DTSTART:20241103T060000
END:STANDARD
END:VTIMEZONE
BEGIN:VEVENT
DTSTART;TZID=UTC:20230804T160000
DTEND;TZID=UTC:20230804T190000
DTSTAMP:20260424T231207
CREATED:20230226T160827Z
LAST-MODIFIED:20230226T160827Z
UID:2052-1691164800-1691175600@bellatrixllc.com
SUMMARY:Bozrah Farmers Market
DESCRIPTION:
URL:https://bellatrixllc.com/event/bozrah-farmers-market-2/
LOCATION:Bozrah Farmers Market\, 45 Bozrah Rd.\, Bozrah\, CT
END:VEVENT
BEGIN:VEVENT
DTSTART;TZID=UTC:20230730T120000
DTEND;TZID=UTC:20230730T160000
DTSTAMP:20260424T231207
CREATED:20230304T032339Z
LAST-MODIFIED:20230305T221718Z
UID:2194-1690718400-1690732800@bellatrixllc.com
SUMMARY:Maple View Farms Small Business Vendor Fair
DESCRIPTION:
URL:https://bellatrixllc.com/event/maple-view-farms-small-business-vendor-fair/
LOCATION:Maple VIew Farm\, 192 Salmon Brook Street\, Granby\, CT\, 06035
ORGANIZER;CN="Maple View Farm":MAILTO:mapleview@cox.net
END:VEVENT
BEGIN:VEVENT
DTSTART;TZID=UTC:20230729T120000
DTEND;TZID=UTC:20230729T140000
DTSTAMP:20260424T231207
CREATED:20230614T024541Z
LAST-MODIFIED:20230614T024541Z
UID:2466-1690632000-1690639200@bellatrixllc.com
SUMMARY:R Dee Winery and Powder Hollow Brewery Open Air Market
DESCRIPTION:
URL:https://bellatrixllc.com/event/r-dee-winery-and-powder-hollow-brewery-open-air-market/
LOCATION:RDee Winery\, 504 Hazard Ave\, Enfield\, CT\, 06082
END:VEVENT
BEGIN:VEVENT
DTSTART;TZID=UTC:20230728T160000
DTEND;TZID=UTC:20230728T190000
DTSTAMP:20260424T231207
CREATED:20230226T160610Z
LAST-MODIFIED:20230614T024057Z
UID:2047-1690560000-1690570800@bellatrixllc.com
SUMMARY:Bozrah Farmers Market
DESCRIPTION:Opening Day for the Market
URL:https://bellatrixllc.com/event/bozrah-farmers-market/
LOCATION:Bozrah Farmers Market\, 45 Bozrah Rd.\, Bozrah\, CT
END:VEVENT
BEGIN:VEVENT
DTSTART;TZID=UTC:20230726T170000
DTEND;TZID=UTC:20230726T190000
DTSTAMP:20260424T231207
CREATED:20230226T160714Z
LAST-MODIFIED:20230226T160714Z
UID:2050-1690390800-1690398000@bellatrixllc.com
SUMMARY:Puppy Hour
DESCRIPTION:
URL:https://bellatrixllc.com/event/puppy-hour-3/
LOCATION:Pratt Street\, Pratt St\, Hartford\, Connecticut
END:VEVENT
BEGIN:VEVENT
DTSTART;TZID=UTC:20230709T100000
DTEND;TZID=UTC:20230709T150000
DTSTAMP:20260424T231207
CREATED:20230614T185403Z
LAST-MODIFIED:20230614T185403Z
UID:2474-1688896800-1688914800@bellatrixllc.com
SUMMARY:Fourth of July Town Celebration
DESCRIPTION:
URL:https://bellatrixllc.com/event/fourth-of-july-town-celebration-2/
LOCATION:Town of Enfield\, Enfield\, CT\, 06082
END:VEVENT
BEGIN:VEVENT
DTSTART;TZID=UTC:20230708T120000
DTEND;TZID=UTC:20230708T150000
DTSTAMP:20260424T231207
CREATED:20230518T010405Z
LAST-MODIFIED:20230518T010431Z
UID:2450-1688817600-1688828400@bellatrixllc.com
SUMMARY:R Dee Winery & Powder Hollow Brewery Open Air Vendor Market!
DESCRIPTION:
URL:https://bellatrixllc.com/event/r-dee-winery-powder-hollow-brewery-spring-open-air-vendor-market/
LOCATION:RDee Winery\, 504 Hazard Ave\, Enfield\, CT\, 06082
END:VEVENT
BEGIN:VEVENT
DTSTART;TZID=UTC:20230708T100000
DTEND;TZID=UTC:20230708T170000
DTSTAMP:20260424T231207
CREATED:20230614T185103Z
LAST-MODIFIED:20230614T185103Z
UID:2471-1688810400-1688835600@bellatrixllc.com
SUMMARY:Fourth of July Town Celebration
DESCRIPTION:
URL:https://bellatrixllc.com/event/fourth-of-july-town-celebration/
LOCATION:Town of Enfield\, Enfield\, CT\, 06082
END:VEVENT
BEGIN:VEVENT
DTSTART;TZID=UTC:20230701T090000
DTEND;TZID=UTC:20230701T120000
DTSTAMP:20260424T231207
CREATED:20230304T040735Z
LAST-MODIFIED:20230304T040735Z
UID:2212-1688202000-1688212800@bellatrixllc.com
SUMMARY:Hebron Artisan and Farmers Market
DESCRIPTION:
URL:https://bellatrixllc.com/event/hebron-artisan-and-farmers-market-2/
LOCATION:Hebron Elementary School\, 92 Church St.\, Hebron\, CT
END:VEVENT
BEGIN:VEVENT
DTSTART;VALUE=DATE:20230701
DTEND;VALUE=DATE:20230702
DTSTAMP:20260424T231207
CREATED:20230304T031817Z
LAST-MODIFIED:20230305T221003Z
UID:2191-1688169600-1688255999@bellatrixllc.com
SUMMARY:Rose Arts Festival
DESCRIPTION:
URL:https://bellatrixllc.com/event/rose-arts-festival/
LOCATION:Chelsea Parade Park\, Norwich\, CT
ORGANIZER;CN="Rose Arts Festival":MAILTO:info@roseartsfestival.com
END:VEVENT
BEGIN:VEVENT
DTSTART;TZID=UTC:20230625T110000
DTEND;TZID=UTC:20230625T180000
DTSTAMP:20260424T231207
CREATED:20230305T223406Z
LAST-MODIFIED:20230305T223406Z
UID:2326-1687690800-1687716000@bellatrixllc.com
SUMMARY:Manchester Food Truck Festival
DESCRIPTION:
URL:https://bellatrixllc.com/event/manchester-food-truck-festival-2/
LOCATION:Buckland Hills Mall\, Manchester\, CT
END:VEVENT
BEGIN:VEVENT
DTSTART;TZID=UTC:20230624T120000
DTEND;TZID=UTC:20230624T150000
DTSTAMP:20260424T231207
CREATED:20230614T023212Z
LAST-MODIFIED:20230614T023307Z
UID:2463-1687608000-1687618800@bellatrixllc.com
SUMMARY:RDee Winery Open Air Market
DESCRIPTION:
URL:https://bellatrixllc.com/event/rdee-winery-open-air-market-2/
LOCATION:RDee Winery\, 504 Hazard Ave\, Enfield\, CT\, 06082
END:VEVENT
BEGIN:VEVENT
DTSTART;TZID=UTC:20230624T110000
DTEND;TZID=UTC:20230624T190000
DTSTAMP:20260424T231207
CREATED:20230305T222754Z
LAST-MODIFIED:20230305T222933Z
UID:2322-1687604400-1687633200@bellatrixllc.com
SUMMARY:Manchester Food Truck Festival
DESCRIPTION:
URL:https://bellatrixllc.com/event/manchester-food-truck-festival/
LOCATION:Buckland Hills Mall\, Manchester\, CT
END:VEVENT
BEGIN:VEVENT
DTSTART;TZID=UTC:20230621T170000
DTEND;TZID=UTC:20230621T190000
DTSTAMP:20260424T231207
CREATED:20230226T160103Z
LAST-MODIFIED:20230226T160103Z
UID:2045-1687366800-1687374000@bellatrixllc.com
SUMMARY:Puppy Hour
DESCRIPTION:
URL:https://bellatrixllc.com/event/puppy-hour-2/
LOCATION:Pratt Street\, Pratt St\, Hartford\, Connecticut
END:VEVENT
BEGIN:VEVENT
DTSTART;TZID=UTC:20230617T120000
DTEND;TZID=UTC:20230617T170000
DTSTAMP:20260424T231207
CREATED:20230120T032113Z
LAST-MODIFIED:20230121T144032Z
UID:2013-1687003200-1687021200@bellatrixllc.com
SUMMARY:Sturbridge Food Truck Festival and Craft Fair 2023
DESCRIPTION:12pm to 5pm\nAt Hamilton Rod and Gun\, 24 Hamilton Rd\, Sturbridge \, MA
URL:https://bellatrixllc.com/event/sturbridge-food-truck-festival-and-craft-fair-2023/
LOCATION:Hamilton Rod and Gun\, Sturbridge\, MA
END:VEVENT
BEGIN:VEVENT
DTSTART;TZID=UTC:20230617T110000
DTEND;TZID=UTC:20230617T140000
DTSTAMP:20260424T231207
CREATED:20230304T042658Z
LAST-MODIFIED:20230304T042658Z
UID:2224-1686999600-1687010400@bellatrixllc.com
SUMMARY:Hebron Day Summer Kickoff
DESCRIPTION:
URL:https://bellatrixllc.com/event/hebron-day-summer-kickoff/
LOCATION:Brunt Hill Park\, 148 East St.\, Hebron\, CT\, 06248
END:VEVENT
BEGIN:VEVENT
DTSTART;TZID=UTC:20230617T100000
DTEND;TZID=UTC:20230617T140000
DTSTAMP:20260424T231207
CREATED:20230614T022523Z
LAST-MODIFIED:20230614T022523Z
UID:2461-1686996000-1687010400@bellatrixllc.com
SUMMARY:Father's Day Artisan Market
DESCRIPTION:
URL:https://bellatrixllc.com/event/fathers-day-artisan-market/
LOCATION:CT Valley Brewing Company\, 765 Sullivan Ave\, South Windsor\, Connecticut
END:VEVENT
BEGIN:VEVENT
DTSTART;TZID=UTC:20230604T100000
DTEND;TZID=UTC:20230604T160000
DTSTAMP:20260424T231207
CREATED:20230105T045714Z
LAST-MODIFIED:20230305T214041Z
UID:1958-1685872800-1685894400@bellatrixllc.com
SUMMARY:Mutts at the Mill
DESCRIPTION:Mutts at the Mill Festival\nSaturday\, June 3rd (10a – 6p) – Sunday\, June 4th (10a – 4p)\nVelvet Mill\, 22 Bayview Ave.\, Stonington\, CT\nCrafters\, Vendors\, Free dog contests\, Free kids activities
URL:https://bellatrixllc.com/event/mutts-at-the-mill-2/
LOCATION:Velvet Mill Mall\, 22 Bayview Ave.\, Stonington\, CT
ORGANIZER;CN="Petrillos Fairs and Festivals":MAILTO:petrillosevents@gmail.com
END:VEVENT
BEGIN:VEVENT
DTSTART;TZID=UTC:20230603T100000
DTEND;TZID=UTC:20230603T180000
DTSTAMP:20260424T231207
CREATED:20230105T045548Z
LAST-MODIFIED:20230305T213855Z
UID:1955-1685786400-1685815200@bellatrixllc.com
SUMMARY:Mutts at the Mill
DESCRIPTION:Mutts at the Mill Festival\nSaturday\, June 3rd (10a – 6p) – Sunday\, June 4th (10a – 4p)\nVelvet Mill\, 22 Bayview Ave.\, Stonington\, CT\nCrafters\, Vendors\, Free dog contests\, Free kids activities
URL:https://bellatrixllc.com/event/mutts-at-the-mill/
LOCATION:Velvet Mill Mall\, 22 Bayview Ave.\, Stonington\, CT
ORGANIZER;CN="Petrillos Fairs and Festivals":MAILTO:petrillosevents@gmail.com
END:VEVENT
BEGIN:VEVENT
DTSTART;TZID=UTC:20230603T090000
DTEND;TZID=UTC:20230603T120000
DTSTAMP:20260424T231207
CREATED:20230304T040309Z
LAST-MODIFIED:20230305T213618Z
UID:2209-1685782800-1685793600@bellatrixllc.com
SUMMARY:Hebron Artisan and Farmer’s Market
DESCRIPTION:
URL:https://bellatrixllc.com/event/hebron-artisan-and-farmers-market/
LOCATION:Hebron Elementary School\, 92 Church St.\, Hebron\, CT
END:VEVENT
BEGIN:VEVENT
DTSTART;TZID=UTC:20230524T170000
DTEND;TZID=UTC:20230524T190000
DTSTAMP:20260424T231207
CREATED:20230226T155452Z
LAST-MODIFIED:20230226T155452Z
UID:2040-1684947600-1684954800@bellatrixllc.com
SUMMARY:Puppy Hour
DESCRIPTION:
URL:https://bellatrixllc.com/event/puppy-hour/
LOCATION:Pratt Street\, Pratt St\, Hartford\, Connecticut
END:VEVENT
BEGIN:VEVENT
DTSTART;TZID=UTC:20230521T100000
DTEND;TZID=UTC:20230521T170000
DTSTAMP:20260424T231207
CREATED:20230518T003505Z
LAST-MODIFIED:20230518T004155Z
UID:2434-1684663200-1684688400@bellatrixllc.com
SUMMARY:Nyack Famous Street Fair May 21st Nyack\, NY (find Bellatrix on Cedar St)
DESCRIPTION:Find us on Cedar Street for the May 21st street fair 10 AM – 5 PM
URL:https://bellatrixllc.com/event/nyack-famous-street-fair-may-21st-nyack-ny/
LOCATION:Cedar St. Nayack NY\, NY
END:VEVENT
BEGIN:VEVENT
DTSTART;TZID=UTC:20230521T100000
DTEND;TZID=UTC:20230521T140000
DTSTAMP:20260424T231207
CREATED:20230105T045327Z
LAST-MODIFIED:20230105T045327Z
UID:1953-1684663200-1684677600@bellatrixllc.com
SUMMARY:For the Love of Dogs
DESCRIPTION:Connecticut Valley Brewing Company and Birdhouse Coffee For the Love of Dogs event \n 
URL:https://bellatrixllc.com/event/for-the-love-of-dogs/
LOCATION:CT Valley Brewing Company\, 765 Sullivan Ave\, South Windsor\, Connecticut
END:VEVENT
BEGIN:VEVENT
DTSTART;TZID=UTC:20230520T120000
DTEND;TZID=UTC:20230520T150000
DTSTAMP:20260424T231207
CREATED:20230518T005019Z
LAST-MODIFIED:20230518T005334Z
UID:2446-1684584000-1684594800@bellatrixllc.com
SUMMARY:R Dee Winery & Powder Hollow Brewery Spring Open Air Vendor Market!
DESCRIPTION:
URL:https://bellatrixllc.com/event/dee-winery-powder-hollow-brewery-spring-open-air-vendor-market/
LOCATION:RDee Winery\, 504 Hazard Ave\, Enfield\, CT\, 06082
END:VEVENT
BEGIN:VEVENT
DTSTART;TZID=UTC:20230513T100000
DTEND;TZID=UTC:20230513T140000
DTSTAMP:20260424T231207
CREATED:20230226T155207Z
LAST-MODIFIED:20230226T155305Z
UID:2037-1683972000-1683986400@bellatrixllc.com
SUMMARY:Mothers Day Market
DESCRIPTION:
URL:https://bellatrixllc.com/event/connecticut-valley-brewing-company-mothers-day-market/
LOCATION:CT Valley Brewing Company\, 765 Sullivan Ave\, South Windsor\, Connecticut
END:VEVENT
BEGIN:VEVENT
DTSTART;TZID=America/New_York:20230507T100000
DTEND;TZID=America/New_York:20230507T180000
DTSTAMP:20260424T231207
CREATED:20230105T044343Z
LAST-MODIFIED:20230416T115613Z
UID:1944-1683453600-1683482400@bellatrixllc.com
SUMMARY:WoofFEST of Willimantic
DESCRIPTION:WoofFEST of Willimantic\nSaturday\, May 6th (10a-7p) – Sunday\, May 7th (10a-6p)\nJillson Square\, 533 Main St\, WIllimantic CT\nFood Trucks\, Crafters\, Vendors\, Music\, Entertainment\, Canine Themed Contests and Activities
URL:https://bellatrixllc.com/event/wooffest-of-willimantic-2/
LOCATION:Jilison Square Park\, 533 Main St\, Willimantic\, Connecticut\, 06226
ORGANIZER;CN="Petrillos Fairs and Festivals":MAILTO:petrillosevents@gmail.com
END:VEVENT
BEGIN:VEVENT
DTSTART;TZID=America/New_York:20230506T100000
DTEND;TZID=America/New_York:20230506T190000
DTSTAMP:20260424T231207
CREATED:20230105T044231Z
LAST-MODIFIED:20230416T115729Z
UID:1942-1683367200-1683399600@bellatrixllc.com
SUMMARY:WoofFEST of Willimantic
DESCRIPTION:WoofFEST of Willimantic\nSaturday\, May 6th (10a-7p) – Sunday\, May 7th (10a-6p)\nJillson Square\, 533 Main St\, WIllimantic CT\nFood Trucks\, Crafters\, Vendors\, Music\, Entertainment\, Canine Themed Contests and Activities
URL:https://bellatrixllc.com/event/wooffest-of-willimantic/
LOCATION:Jilison Square Park\, 533 Main St\, Willimantic\, Connecticut\, 06226
ORGANIZER;CN="Petrillos Fairs and Festivals":MAILTO:petrillosevents@gmail.com
END:VEVENT
BEGIN:VEVENT
DTSTART;TZID=UTC:20230506T100000
DTEND;TZID=UTC:20230506T160000
DTSTAMP:20260424T231207
CREATED:20230226T154537Z
LAST-MODIFIED:20230305T211401Z
UID:2034-1683367200-1683388800@bellatrixllc.com
SUMMARY:Four Town Fair Regional Farmers & Crafters Market
DESCRIPTION:
URL:https://bellatrixllc.com/event/four-town-fair-regional-farmers-crafters-market/
LOCATION:Four Town Fiargrounds\, 56 Egypt Rd\, Somers\, CT
ORGANIZER;CN="4 Town Regional Farmers and Crafters Market":MAILTO:marieletellier5318@gmail.com
END:VEVENT
BEGIN:VEVENT
DTSTART;TZID=UTC:20230430T100000
DTEND;TZID=UTC:20230430T180000
DTSTAMP:20260424T231207
CREATED:20230120T030736Z
LAST-MODIFIED:20230305T205714Z
UID:2005-1682848800-1682877600@bellatrixllc.com
SUMMARY:Connecticut Canine Festival
DESCRIPTION:Connecticut Canine Festival\nSaturday\, April 29th (10a-6p) – Sunday\, April 30th (10a-6p)\nPriam Vineyards; 11 Shailor Hill Road\, Colchester\, CT\nFood Trucks\, Crafters\, Vendors\, Music\, Entertainment\, Canine Themed Contests and Activities
URL:https://bellatrixllc.com/event/connecticut-canine-festival-2/
LOCATION:Priam Vineyards\, 11 Shailor Hill Road\, Colchester\, CT
ORGANIZER;CN="Petrillos Fairs and Festivals":MAILTO:petrillosevents@gmail.com
END:VEVENT
BEGIN:VEVENT
DTSTART;TZID=UTC:20230429T100000
DTEND;TZID=UTC:20230429T180000
DTSTAMP:20260424T231207
CREATED:20230105T044057Z
LAST-MODIFIED:20230305T205604Z
UID:1939-1682762400-1682791200@bellatrixllc.com
SUMMARY:Connecticut Canine Festival
DESCRIPTION:Connecticut Canine Festival\nSaturday\, April 29th (10a-6p) – Sunday\, April 30th (10a-6p)\nPriam Vineyards; 11 Shailor Hill Road\, Colchester\, CT\nFood Trucks\, Crafters\, Vendors\, Music\, Entertainment\, Canine Themed Contests and Activities
URL:https://bellatrixllc.com/event/connecticut-canine-festival/
LOCATION:Priam Vineyards\, 11 Shailor Hill Road\, Colchester\, CT
ORGANIZER;CN="Petrillos Fairs and Festivals":MAILTO:petrillosevents@gmail.com
END:VEVENT
END:VCALENDAR