BEGIN:VCALENDAR
VERSION:2.0
PRODID:-//Bellatrix - ECPv6.15.20//NONSGML v1.0//EN
CALSCALE:GREGORIAN
METHOD:PUBLISH
X-WR-CALNAME:Bellatrix
X-ORIGINAL-URL:https://bellatrixllc.com
X-WR-CALDESC:Events for Bellatrix
REFRESH-INTERVAL;VALUE=DURATION:PT1H
X-Robots-Tag:noindex
X-PUBLISHED-TTL:PT1H
BEGIN:VTIMEZONE
TZID:UTC
BEGIN:STANDARD
TZOFFSETFROM:+0000
TZOFFSETTO:+0000
TZNAME:UTC
DTSTART:20210101T000000
END:STANDARD
END:VTIMEZONE
BEGIN:VTIMEZONE
TZID:America/New_York
BEGIN:DAYLIGHT
TZOFFSETFROM:-0500
TZOFFSETTO:-0400
TZNAME:EDT
DTSTART:20220313T070000
END:DAYLIGHT
BEGIN:STANDARD
TZOFFSETFROM:-0400
TZOFFSETTO:-0500
TZNAME:EST
DTSTART:20221106T060000
END:STANDARD
BEGIN:DAYLIGHT
TZOFFSETFROM:-0500
TZOFFSETTO:-0400
TZNAME:EDT
DTSTART:20230312T070000
END:DAYLIGHT
BEGIN:STANDARD
TZOFFSETFROM:-0400
TZOFFSETTO:-0500
TZNAME:EST
DTSTART:20231105T060000
END:STANDARD
BEGIN:DAYLIGHT
TZOFFSETFROM:-0500
TZOFFSETTO:-0400
TZNAME:EDT
DTSTART:20240310T070000
END:DAYLIGHT
BEGIN:STANDARD
TZOFFSETFROM:-0400
TZOFFSETTO:-0500
TZNAME:EST
DTSTART:20241103T060000
END:STANDARD
END:VTIMEZONE
BEGIN:VEVENT
DTSTART;TZID=UTC:20230513T100000
DTEND;TZID=UTC:20230513T140000
DTSTAMP:20260425T023902
CREATED:20230226T155207Z
LAST-MODIFIED:20230226T155305Z
UID:2037-1683972000-1683986400@bellatrixllc.com
SUMMARY:Mothers Day Market
DESCRIPTION:
URL:https://bellatrixllc.com/event/connecticut-valley-brewing-company-mothers-day-market/
LOCATION:CT Valley Brewing Company\, 765 Sullivan Ave\, South Windsor\, Connecticut
END:VEVENT
BEGIN:VEVENT
DTSTART;TZID=America/New_York:20230507T100000
DTEND;TZID=America/New_York:20230507T180000
DTSTAMP:20260425T023902
CREATED:20230105T044343Z
LAST-MODIFIED:20230416T115613Z
UID:1944-1683453600-1683482400@bellatrixllc.com
SUMMARY:WoofFEST of Willimantic
DESCRIPTION:WoofFEST of Willimantic\nSaturday\, May 6th (10a-7p) – Sunday\, May 7th (10a-6p)\nJillson Square\, 533 Main St\, WIllimantic CT\nFood Trucks\, Crafters\, Vendors\, Music\, Entertainment\, Canine Themed Contests and Activities
URL:https://bellatrixllc.com/event/wooffest-of-willimantic-2/
LOCATION:Jilison Square Park\, 533 Main St\, Willimantic\, Connecticut\, 06226
ORGANIZER;CN="Petrillos Fairs and Festivals":MAILTO:petrillosevents@gmail.com
END:VEVENT
BEGIN:VEVENT
DTSTART;TZID=America/New_York:20230506T100000
DTEND;TZID=America/New_York:20230506T190000
DTSTAMP:20260425T023902
CREATED:20230105T044231Z
LAST-MODIFIED:20230416T115729Z
UID:1942-1683367200-1683399600@bellatrixllc.com
SUMMARY:WoofFEST of Willimantic
DESCRIPTION:WoofFEST of Willimantic\nSaturday\, May 6th (10a-7p) – Sunday\, May 7th (10a-6p)\nJillson Square\, 533 Main St\, WIllimantic CT\nFood Trucks\, Crafters\, Vendors\, Music\, Entertainment\, Canine Themed Contests and Activities
URL:https://bellatrixllc.com/event/wooffest-of-willimantic/
LOCATION:Jilison Square Park\, 533 Main St\, Willimantic\, Connecticut\, 06226
ORGANIZER;CN="Petrillos Fairs and Festivals":MAILTO:petrillosevents@gmail.com
END:VEVENT
BEGIN:VEVENT
DTSTART;TZID=UTC:20230506T100000
DTEND;TZID=UTC:20230506T160000
DTSTAMP:20260425T023902
CREATED:20230226T154537Z
LAST-MODIFIED:20230305T211401Z
UID:2034-1683367200-1683388800@bellatrixllc.com
SUMMARY:Four Town Fair Regional Farmers & Crafters Market
DESCRIPTION:
URL:https://bellatrixllc.com/event/four-town-fair-regional-farmers-crafters-market/
LOCATION:Four Town Fiargrounds\, 56 Egypt Rd\, Somers\, CT
ORGANIZER;CN="4 Town Regional Farmers and Crafters Market":MAILTO:marieletellier5318@gmail.com
END:VEVENT
BEGIN:VEVENT
DTSTART;TZID=UTC:20230430T100000
DTEND;TZID=UTC:20230430T180000
DTSTAMP:20260425T023902
CREATED:20230120T030736Z
LAST-MODIFIED:20230305T205714Z
UID:2005-1682848800-1682877600@bellatrixllc.com
SUMMARY:Connecticut Canine Festival
DESCRIPTION:Connecticut Canine Festival\nSaturday\, April 29th (10a-6p) – Sunday\, April 30th (10a-6p)\nPriam Vineyards; 11 Shailor Hill Road\, Colchester\, CT\nFood Trucks\, Crafters\, Vendors\, Music\, Entertainment\, Canine Themed Contests and Activities
URL:https://bellatrixllc.com/event/connecticut-canine-festival-2/
LOCATION:Priam Vineyards\, 11 Shailor Hill Road\, Colchester\, CT
ORGANIZER;CN="Petrillos Fairs and Festivals":MAILTO:petrillosevents@gmail.com
END:VEVENT
BEGIN:VEVENT
DTSTART;TZID=UTC:20230429T100000
DTEND;TZID=UTC:20230429T180000
DTSTAMP:20260425T023902
CREATED:20230105T044057Z
LAST-MODIFIED:20230305T205604Z
UID:1939-1682762400-1682791200@bellatrixllc.com
SUMMARY:Connecticut Canine Festival
DESCRIPTION:Connecticut Canine Festival\nSaturday\, April 29th (10a-6p) – Sunday\, April 30th (10a-6p)\nPriam Vineyards; 11 Shailor Hill Road\, Colchester\, CT\nFood Trucks\, Crafters\, Vendors\, Music\, Entertainment\, Canine Themed Contests and Activities
URL:https://bellatrixllc.com/event/connecticut-canine-festival/
LOCATION:Priam Vineyards\, 11 Shailor Hill Road\, Colchester\, CT
ORGANIZER;CN="Petrillos Fairs and Festivals":MAILTO:petrillosevents@gmail.com
END:VEVENT
BEGIN:VEVENT
DTSTART;TZID=UTC:20230402T100000
DTEND;TZID=UTC:20230402T150000
DTSTAMP:20260425T023902
CREATED:20230304T024714Z
LAST-MODIFIED:20230305T204954Z
UID:2184-1680429600-1680447600@bellatrixllc.com
SUMMARY:North Central Connecticut Chamber of Commerce (NCCCC) Home and Product Show
DESCRIPTION:
URL:https://bellatrixllc.com/event/north-central-connecticut-chamber-of-commerce-ncccc-home-and-product-show-2/
LOCATION:Enfield Square Mall\, 90 Elm St\, Enfield\, CT\, 06082\, United States
ORGANIZER;CN="North Central Connecticut Chamber of Commerce":MAILTO:info@ncccc.org
END:VEVENT
BEGIN:VEVENT
DTSTART;TZID=UTC:20230401T090000
DTEND;TZID=UTC:20230401T170000
DTSTAMP:20260425T023902
CREATED:20230304T024610Z
LAST-MODIFIED:20230305T204933Z
UID:2182-1680339600-1680368400@bellatrixllc.com
SUMMARY:North Central Connecticut Chamber of Commerce (NCCCC) Home and Product Show
DESCRIPTION:
URL:https://bellatrixllc.com/event/north-central-connecticut-chamber-of-commerce-ncccc-home-and-product-show/
LOCATION:Enfield Square Mall\, 90 Elm St\, Enfield\, CT\, 06082\, United States
ORGANIZER;CN="North Central Connecticut Chamber of Commerce":MAILTO:info@ncccc.org
END:VEVENT
BEGIN:VEVENT
DTSTART;TZID=UTC:20230326T130000
DTEND;TZID=UTC:20230326T170000
DTSTAMP:20260425T023902
CREATED:20230226T151542Z
LAST-MODIFIED:20230226T151928Z
UID:2030-1679835600-1679850000@bellatrixllc.com
SUMMARY:Black Hog Brewing Co. Woman Owned Business Market
DESCRIPTION:Join us and other woman owned businesses at Black Hog Brewing for their Woman Owned Business Market on March 26th 1-5 PM.
URL:https://bellatrixllc.com/event/black-hog-brewing-co-woman-owned-business-market/
LOCATION:Black Hog Brewing Co\, 115 Hurley Rd\, Oxford\, CT\, 06478
END:VEVENT
BEGIN:VEVENT
DTSTART;TZID=UTC:20230326T100000
DTEND;TZID=UTC:20230326T150000
DTSTAMP:20260425T023902
CREATED:20230120T031633Z
LAST-MODIFIED:20230120T031633Z
UID:2011-1679824800-1679842800@bellatrixllc.com
SUMMARY:Enfield Craft and Hobby Fair
DESCRIPTION:
URL:https://bellatrixllc.com/event/enfield-craft-and-hobby-fair-3/
LOCATION:Enfield Square Mall\, 90 Elm St\, Enfield\, CT\, 06082\, United States
END:VEVENT
BEGIN:VEVENT
DTSTART;TZID=UTC:20230319T100000
DTEND;TZID=UTC:20230319T150000
DTSTAMP:20260425T023902
CREATED:20230120T031509Z
LAST-MODIFIED:20230120T031509Z
UID:2009-1679220000-1679238000@bellatrixllc.com
SUMMARY:Enfield Craft and Hobby Fair
DESCRIPTION:
URL:https://bellatrixllc.com/event/enfield-craft-and-hobby-fair-2/
LOCATION:Enfield Square Mall\, 90 Elm St\, Enfield\, CT\, 06082\, United States
END:VEVENT
BEGIN:VEVENT
DTSTART;TZID=UTC:20230212T100000
DTEND;TZID=UTC:20230212T150000
DTSTAMP:20260425T023902
CREATED:20230120T031406Z
LAST-MODIFIED:20230120T031406Z
UID:2007-1676196000-1676214000@bellatrixllc.com
SUMMARY:Enfield Craft and Hobby Fair
DESCRIPTION:
URL:https://bellatrixllc.com/event/enfield-craft-and-hobby-fair/
LOCATION:Enfield Square Mall\, 90 Elm St\, Enfield\, CT\, 06082\, United States
END:VEVENT
BEGIN:VEVENT
DTSTART;TZID=UTC:20230210T170000
DTEND;TZID=UTC:20230210T200000
DTSTAMP:20260425T023902
CREATED:20230112T021953Z
LAST-MODIFIED:20230117T151516Z
UID:1981-1676048400-1676059200@bellatrixllc.com
SUMMARY:Gastro Park
DESCRIPTION:Friday February 10th 5-8PM.
URL:https://bellatrixllc.com/event/gastro-park/
LOCATION:Gastro Park\, 637 New Park Avenue\, West Hartford\, CT\, 06110
END:VEVENT
BEGIN:VEVENT
DTSTART;TZID=UTC:20230205T100000
DTEND;TZID=UTC:20230205T140000
DTSTAMP:20260425T023902
CREATED:20230108T223600Z
LAST-MODIFIED:20230108T223600Z
UID:1976-1675591200-1675605600@bellatrixllc.com
SUMMARY:Valentine's Day Artisan Market
DESCRIPTION:
URL:https://bellatrixllc.com/event/valentines-day-artisan-market-2/
LOCATION:CT Valley Brewing Company\, 765 Sullivan Ave\, South Windsor\, Connecticut
END:VEVENT
BEGIN:VEVENT
DTSTART;TZID=UTC:20230204T100000
DTEND;TZID=UTC:20230204T140000
DTSTAMP:20260425T023902
CREATED:20230108T223516Z
LAST-MODIFIED:20230108T223516Z
UID:1974-1675504800-1675519200@bellatrixllc.com
SUMMARY:Valentine's Day Artisan Market
DESCRIPTION:
URL:https://bellatrixllc.com/event/valentines-day-artisan-market/
LOCATION:CT Valley Brewing Company\, 765 Sullivan Ave\, South Windsor\, Connecticut
END:VEVENT
BEGIN:VEVENT
DTSTART;TZID=UTC:20221217T120000
DTEND;TZID=UTC:20221217T180000
DTSTAMP:20260425T023902
CREATED:20221124T005425Z
LAST-MODIFIED:20221124T025150Z
UID:1879-1671278400-1671300000@bellatrixllc.com
SUMMARY:WinterFEST
DESCRIPTION:
URL:https://bellatrixllc.com/event/winterfest/
LOCATION:Jilison Square Park\, 533 Main St\, Willimantic\, Connecticut\, 06226
END:VEVENT
BEGIN:VEVENT
DTSTART;TZID=UTC:20221211T100000
DTEND;TZID=UTC:20221211T150000
DTSTAMP:20260425T023902
CREATED:20221124T005146Z
LAST-MODIFIED:20221124T025534Z
UID:1877-1670752800-1670770800@bellatrixllc.com
SUMMARY:Enfield Farmers Market
DESCRIPTION:
URL:https://bellatrixllc.com/event/enfield-farmers-market-3/
LOCATION:Enfield Square Mall\, 90 Elm St\, Enfield\, CT\, 06082\, United States
END:VEVENT
BEGIN:VEVENT
DTSTART;TZID=UTC:20221204T110000
DTEND;TZID=UTC:20221204T150000
DTSTAMP:20260425T023902
CREATED:20221124T004530Z
LAST-MODIFIED:20221124T024231Z
UID:1873-1670151600-1670166000@bellatrixllc.com
SUMMARY:Pratt Street Winter Village
DESCRIPTION:
URL:https://bellatrixllc.com/event/pratt-street-winter-village-2/
LOCATION:Pratt Street\, Pratt St\, Hartford\, Connecticut
END:VEVENT
BEGIN:VEVENT
DTSTART;TZID=UTC:20221204T100000
DTEND;TZID=UTC:20221204T150000
DTSTAMP:20260425T023902
CREATED:20221124T005033Z
LAST-MODIFIED:20221124T025628Z
UID:1875-1670148000-1670166000@bellatrixllc.com
SUMMARY:Enfield Farmers Market
DESCRIPTION:
URL:https://bellatrixllc.com/event/enfield-farmers-market-2/
LOCATION:Enfield Square Mall\, 90 Elm St\, Enfield\, CT\, 06082\, United States
END:VEVENT
BEGIN:VEVENT
DTSTART;TZID=UTC:20221203T110000
DTEND;TZID=UTC:20221203T150000
DTSTAMP:20260425T023902
CREATED:20221124T004143Z
LAST-MODIFIED:20221124T024401Z
UID:1870-1670065200-1670079600@bellatrixllc.com
SUMMARY:Pratt Street Winter Village
DESCRIPTION:
URL:https://bellatrixllc.com/event/pratt-street-winter-village/
LOCATION:Pratt Street\, Pratt St\, Hartford\, Connecticut
END:VEVENT
BEGIN:VEVENT
DTSTART;TZID=UTC:20221127T100000
DTEND;TZID=UTC:20221127T150000
DTSTAMP:20260425T023902
CREATED:20221124T003201Z
LAST-MODIFIED:20221124T025747Z
UID:1862-1669543200-1669561200@bellatrixllc.com
SUMMARY:Enfield Farmers Market
DESCRIPTION:
URL:https://bellatrixllc.com/event/enfield-farmers-market/
LOCATION:Enfield Square Mall\, 90 Elm St\, Enfield\, CT\, 06082\, United States
END:VEVENT
BEGIN:VEVENT
DTSTART;TZID=UTC:20221127T100000
DTEND;TZID=UTC:20221127T140000
DTSTAMP:20260425T023902
CREATED:20221124T003842Z
LAST-MODIFIED:20221124T025918Z
UID:1866-1669543200-1669557600@bellatrixllc.com
SUMMARY:Sip & Shop Artisan Market
DESCRIPTION:
URL:https://bellatrixllc.com/event/sip-shop-artisan-market/
LOCATION:CT Valley Brewing Company\, 765 Sullivan Ave\, South Windsor\, Connecticut
END:VEVENT
END:VCALENDAR